BEGIN:VCALENDAR
VERSION:2.0
PRODID:-//&quot;Wir für Tölz&quot; - ECPv6.15.20//NONSGML v1.0//EN
CALSCALE:GREGORIAN
METHOD:PUBLISH
X-WR-CALNAME:&quot;Wir für Tölz&quot;
X-ORIGINAL-URL:https://www.wirfuertoelz.de
X-WR-CALDESC:Veranstaltungen für &quot;Wir für Tölz&quot;
REFRESH-INTERVAL;VALUE=DURATION:PT1H
X-Robots-Tag:noindex
X-PUBLISHED-TTL:PT1H
BEGIN:VTIMEZONE
TZID:Europe/Berlin
BEGIN:DAYLIGHT
TZOFFSETFROM:+0100
TZOFFSETTO:+0200
TZNAME:CEST
DTSTART:20240331T010000
END:DAYLIGHT
BEGIN:STANDARD
TZOFFSETFROM:+0200
TZOFFSETTO:+0100
TZNAME:CET
DTSTART:20241027T010000
END:STANDARD
BEGIN:DAYLIGHT
TZOFFSETFROM:+0100
TZOFFSETTO:+0200
TZNAME:CEST
DTSTART:20250330T010000
END:DAYLIGHT
BEGIN:STANDARD
TZOFFSETFROM:+0200
TZOFFSETTO:+0100
TZNAME:CET
DTSTART:20251026T010000
END:STANDARD
BEGIN:DAYLIGHT
TZOFFSETFROM:+0100
TZOFFSETTO:+0200
TZNAME:CEST
DTSTART:20260329T010000
END:DAYLIGHT
BEGIN:STANDARD
TZOFFSETFROM:+0200
TZOFFSETTO:+0100
TZNAME:CET
DTSTART:20261025T010000
END:STANDARD
END:VTIMEZONE
BEGIN:VEVENT
DTSTART;TZID=Europe/Berlin:20250718T130000
DTEND;TZID=Europe/Berlin:20250718T180000
DTSTAMP:20260419T174558
CREATED:20250707T222437Z
LAST-MODIFIED:20250707T222437Z
UID:10000197-1752843600-1752861600@www.wirfuertoelz.de
SUMMARY:Wanderung zur Staffelalm
DESCRIPTION:Einladung „Wanderung zur Staffelalm“\n\nam Freitag\, 18.07.2025 – ab 13.00 Uhr\,\nTreffpunkt Langerbauerhof\, Berg 4\, 83676 Jachenau. \nWir wollen gemeinsam vom Langerbauerhof über Ascherwiesen/ Laindltal/ Rappinschlucht hoch \nzur Staffelalm (www.langerbauer-walchensee.de/alm.html )\, die auf 1320 Metern unterhalb des \nRabenkopfs liegt wandern. Dort erwarten uns eine kleine Brotzeit und ein grandioser Ausblick.\nAuch eine Mountainbike-Tour ist natürlich möglich (Startpunkt Parkplatz am Ortseingang\, \nBeginn Laindltalforststraße).\nWir würden uns sehr freuen\, Sie und Ihre Begleitung bei unserer Tour zur Staffelalm begrüßen \nzu dürfen. Bitte beachten Sie\, dass der Aufstieg zur Staffelalm ca. 2 ½ Stunden dauert und \nfestes Schuhwerk erfordert. Für den Rückweg werden wir einen Fahrdienst organisieren.\n\nBitte bestätigen Sie Ihre Teilnahme per Mail\nross@wirtschaftsforum-oberland.de.\nDie Veranstaltung findet natürlich nur bei schönem Wetter statt.\n 
URL:https://www.wirfuertoelz.de/event/wanderung-zur-staffelalm/
LOCATION:Staffelalm\, Jachenau\, Bayern\, 83676
CATEGORIES:Infoveranstaltung,Meeting,Netzwerk,Tourismus
ATTACH;FMTTYPE=image/jpeg:https://www.wirfuertoelz.de/wp-content/uploads/2025/07/staffel.jpg
ORGANIZER;CN="Wirtschaftsforum Oberand e.V.":MAILTO:andreas.ross@lra-toelz.de
END:VEVENT
END:VCALENDAR