BEGIN:VCALENDAR
VERSION:2.0
PRODID:-//&quot;Wir für Tölz&quot; - ECPv6.15.20//NONSGML v1.0//EN
CALSCALE:GREGORIAN
METHOD:PUBLISH
X-ORIGINAL-URL:https://www.wirfuertoelz.de
X-WR-CALDESC:Veranstaltungen für &quot;Wir für Tölz&quot;
REFRESH-INTERVAL;VALUE=DURATION:PT1H
X-Robots-Tag:noindex
X-PUBLISHED-TTL:PT1H
BEGIN:VTIMEZONE
TZID:Europe/Berlin
BEGIN:DAYLIGHT
TZOFFSETFROM:+0100
TZOFFSETTO:+0200
TZNAME:CEST
DTSTART:20240331T010000
END:DAYLIGHT
BEGIN:STANDARD
TZOFFSETFROM:+0200
TZOFFSETTO:+0100
TZNAME:CET
DTSTART:20241027T010000
END:STANDARD
BEGIN:DAYLIGHT
TZOFFSETFROM:+0100
TZOFFSETTO:+0200
TZNAME:CEST
DTSTART:20250330T010000
END:DAYLIGHT
BEGIN:STANDARD
TZOFFSETFROM:+0200
TZOFFSETTO:+0100
TZNAME:CET
DTSTART:20251026T010000
END:STANDARD
BEGIN:DAYLIGHT
TZOFFSETFROM:+0100
TZOFFSETTO:+0200
TZNAME:CEST
DTSTART:20260329T010000
END:DAYLIGHT
BEGIN:STANDARD
TZOFFSETFROM:+0200
TZOFFSETTO:+0100
TZNAME:CET
DTSTART:20261025T010000
END:STANDARD
END:VTIMEZONE
BEGIN:VEVENT
DTSTART;TZID=Europe/Berlin:20250313T133000
DTEND;TZID=Europe/Berlin:20250313T180000
DTSTAMP:20260425T010457
CREATED:20260210T163741Z
LAST-MODIFIED:20260210T163741Z
UID:10000260-1741872600-1741888800@www.wirfuertoelz.de
SUMMARY:4. Tölzer Land Tourismustag
DESCRIPTION:Bitte merken Sie sich bereits jetzt den Termin für den 4. Tölzer Land Tourismustag vor. Unser Branchentreff für Touristiker\, Partner und interessierte Einheimische und Gäste findet heuer in Lenggries am Nachmittag des 13. März 2026 im Hotel Flesslers in Lenggries statt. \nAuch heuer soll es wieder einen Marktplatz mit Infoständen von Tourist Informationen\, touristischen Leistungsträgern und Verbänden geben\, um in direkten Kontakt treten zu können. Darüber hinaus können Sie sich bei zwei praxisnahen Fachvorträgen über Trends im Tourismusmarketing informieren. \nInformationen zum Programm und den Anmeldemöglichkeiten (auch für interessierte Aussteller am Marktplatz) finden Sie demnächst auch auf unserer Homepage www.toelzer-land.de/tourismustag. \nGerne stehen wir von Tölzer Land Tourismus für Fragen vorab zur Verfügung.\nWir freuen uns schon jetzt auf viele Aussteller und Besucher und einen inspirierenden Tourismustag! \n\n 
URL:https://www.wirfuertoelz.de/event/4-toelzer-land-tourismustag/
LOCATION:Hotel Flesslers\, Münchner Str. 25\, Lenggries\, Bayern\, 83661\, Germany
CATEGORIES:Dikussion,Infoveranstaltung,Meeting,Netzwerk,Tourismus
ATTACH;FMTTYPE=image/png:https://www.wirfuertoelz.de/wp-content/uploads/2026/02/tourismustag.png
ORGANIZER;CN="T%C3%B6lzer Land Tourismus":MAILTO:info@toelzer-land.de
END:VEVENT
END:VCALENDAR