BEGIN:VCALENDAR
VERSION:2.0
PRODID:-//&quot;Wir für Tölz&quot; - ECPv6.15.20//NONSGML v1.0//EN
CALSCALE:GREGORIAN
METHOD:PUBLISH
X-ORIGINAL-URL:https://www.wirfuertoelz.de
X-WR-CALDESC:Veranstaltungen für &quot;Wir für Tölz&quot;
REFRESH-INTERVAL;VALUE=DURATION:PT1H
X-Robots-Tag:noindex
X-PUBLISHED-TTL:PT1H
BEGIN:VTIMEZONE
TZID:Europe/Berlin
BEGIN:DAYLIGHT
TZOFFSETFROM:+0100
TZOFFSETTO:+0200
TZNAME:CEST
DTSTART:20240331T010000
END:DAYLIGHT
BEGIN:STANDARD
TZOFFSETFROM:+0200
TZOFFSETTO:+0100
TZNAME:CET
DTSTART:20241027T010000
END:STANDARD
BEGIN:DAYLIGHT
TZOFFSETFROM:+0100
TZOFFSETTO:+0200
TZNAME:CEST
DTSTART:20250330T010000
END:DAYLIGHT
BEGIN:STANDARD
TZOFFSETFROM:+0200
TZOFFSETTO:+0100
TZNAME:CET
DTSTART:20251026T010000
END:STANDARD
BEGIN:DAYLIGHT
TZOFFSETFROM:+0100
TZOFFSETTO:+0200
TZNAME:CEST
DTSTART:20260329T010000
END:DAYLIGHT
BEGIN:STANDARD
TZOFFSETFROM:+0200
TZOFFSETTO:+0100
TZNAME:CET
DTSTART:20261025T010000
END:STANDARD
END:VTIMEZONE
BEGIN:VEVENT
DTSTART;TZID=Europe/Berlin:20250905T120000
DTEND;TZID=Europe/Berlin:20250905T180000
DTSTAMP:20260424T132007
CREATED:20250828T175540Z
LAST-MODIFIED:20250903T144836Z
UID:10000206-1757073600-1757095200@www.wirfuertoelz.de
SUMMARY:Innenstadt Freitag am 5. September – Einstimmung auf die Wiesn
DESCRIPTION:Innenstadt Freitag am 5. September – „Einstimmung auf die Wiesn“ 🎡\n \nAm Freitag\, 5. September 2025\, heißt es wieder: Innenstadt Freitag in Bad Tölz! Von 12:00 bis 18:00 Uhr verwandelt sich die Marktstraße in eine lebendige Bühne voller Musik\, Spiel\, Genuss und bayerischer Lebensfreude. Dieses Mal steht alles unter dem Motto: „Einstimmung auf die Wiesn“ \nIhre Highlights in der Marktstraße:\n\n\n🍺 Bestes Tölzer Festbier – exklusiv für Kunden aller teilnehmenden Geschäfte der Marktstraße! \n\n\n💎 Handgemachter Trachtenschmuck von funkellnd – einzigartige Ohrringe\, Ketten und Armbänder \n\n\n🥨 Wiesn-Brezen von der Bäckerei Büttner – die perfekte Stärkung zwischendurch \n\nLeider müssen wir Ihnen mitteilen\, dass das Außenprogramm des Innenstadt Freitages in der Marktstraße aufgrund der aktuellen Wetterprognose abgesagt werden muss. \nMit einer Regenwahrscheinlichkeit von 90 % und angekündigten 14 Grad sehen wir keine andere Möglichkeit\, um die Sicherheit aller Teilnehmer und Gäste sowie des Equipments zu gewährleisten. \nUns ist bewusst\, dass dies eine Enttäuschung sein kann\, und wir bedauern die kurzfristige Entscheidung sehr. \n\n\n\nDer Innenstadt Freitag ist die perfekte Gelegenheit\, gemeinsam mit Familie\, Freunden oder Kollegen die Tölzer Innenstadt zu erleben\, Neues zu entdecken und sich auf die Wiesn einzustimmen – mit Musik\, Spiel und bestem Tölzer Festbier. \nℹ️ Weitere Infos und alle Termine finden Sie unter: www.innenstadt-freitag.de
URL:https://www.wirfuertoelz.de/event/innenstadt-freitag-am-5-september-einstimmung-auf-die-wiesn/
LOCATION:Marktstraße\, Bad Tölz\, Marktstraße\, Bad Tölz\, Bayern\, 83646
CATEGORIES:Gastronomie,Gesundheit,Infoveranstaltung,Kultur,Meeting,Natur,Tourismus
ATTACH;FMTTYPE=image/png:https://www.wirfuertoelz.de/wp-content/uploads/2025/08/wiesn.png
ORGANIZER;CN="Wir f%C3%BCr T%C3%B6lz":MAILTO:info@wirfuertoelz.de
END:VEVENT
BEGIN:VEVENT
DTSTART;VALUE=DATE:20250912
DTEND;VALUE=DATE:20250915
DTSTAMP:20260424T132007
CREATED:20250806T112041Z
LAST-MODIFIED:20250806T112041Z
UID:10000203-1757635200-1757894399@www.wirfuertoelz.de
SUMMARY:3. Tölzer Bierfest 2025
DESCRIPTION:3. Tölzer Bierfest 2025 \n\n\nDas 3. Tölzer Bierfest – Auf geht’s zum fröhlichen proBIERen!\nVom 12. bis 14. September 2025 heißt es auf dem idyllischen Vichyplatz in Bad Tölz wieder: Genießen\, Entdecken und Gemeinsamsein! Nach den großen Erfolgen der vergangenen beiden Jahre lädt das 3. Tölzer Bierfest erneut dazu ein\, in geselliger Atmosphäre die Vielfalt der regionalen Braukunst zu erleben. \nWas Euch erwartet:\n\n\nProbierfreude pur: Kleine Gläser zum kleinen Preis – so habt Ihr die Chance\, viele verschiedene Bierspezialitäten aus der Region kennenzulernen – vielleicht entdeckt Ihr dabei sogar Euer neues Lieblingsbier! \n\n\nLive-Musik & beste Stimmung: Jeden Tag sorgen verschiedene Bands und Musiker für echte Bierfest-Stimmung. \n\n\nBrauereiführungen beim Binderbräu: Spannende Einblicke in die Braukunst direkt vor Ort (Kostenbeitrag: 5 € pro Person\, Kinder bis 16 Jahre frei). \n\n\nKulinarische Köstlichkeiten: Deftige Brotzeiten und bayerische Schmankerl runden das Geschmackserlebnis ab. \n\n\nTaubenschießen: Spaß und Tradition – das beliebte Schießen findet an allen drei Tagen im Biergarten des Binderbräu statt. \n\n\n\nProgramm-Highlights:\nFreitag\, 12.09. \n\n\n17:00 Uhr – Eröffnung mit der bayerischen Bierkönigin & Fassanstich \n\n\n18:00 Uhr – Brauereiführung Binderbräu \n\n\n20:00–23:00 Uhr – Livemusik mit Max Grasmüller \n\n\nSamstag\, 13.09. \n\n\n18:00 Uhr – Brauereiführung Binderbräu \n\n\n19:30–22:30 Uhr – Livemusik mit Driftwood (Trio) \n\n\nSonntag\, 14.09. \n\n\n10:00 Uhr – 2. Tölzer Stadtmeisterschaft im Schafkopf (Einschreibung ab 9:15 Uhr) \n\n\n10:00–12:00 Uhr – Frühschoppen mit Weißwurstfrühstück \n\n\nMusik-Acts: Rotzblech\, Rendezvous des Wahnsinns (RdW)\, ScheinEilig \n\n\nBrauereiführungen um 11:00\, 14:00 und 16:00 Uhr \n\n\n\nDas Tölzer Bierfest – ein Fest für alle Sinne:\nTrefft Freunde und Familie\, genießt handwerklich gebraute Biere\, erlebt echte bayerische Traditionen und lasst Euch von der gemütlichen Atmosphäre und guter Musik mitreißen. \nOrt: Vichyplatz\, Bad TölzTermin: 12.–14. September 2025Alle Details gibt’s hier: bierfest.wirfuertoelz.de \n\nKommt vorbei und feiert mit uns die Vielfalt der regionalen Braukunst beim 3. Tölzer Bierfest – wir freuen uns auf Euch!
URL:https://www.wirfuertoelz.de/event/3-toelzer-bierfest/
LOCATION:Vichyplatz\, Vichyplatz\, Bad Tölz\, Bayern\, 83646\, Deutschland
CATEGORIES:Gastronomie
ATTACH;FMTTYPE=image/png:https://www.wirfuertoelz.de/wp-content/uploads/2025/08/Bierfest-Web-2025.png
ORGANIZER;CN="Wir f%C3%BCr T%C3%B6lz":MAILTO:info@wirfuertoelz.de
END:VEVENT
BEGIN:VEVENT
DTSTART;VALUE=DATE:20250917
DTEND;VALUE=DATE:20250921
DTSTAMP:20260424T132007
CREATED:20250610T111402Z
LAST-MODIFIED:20250610T111402Z
UID:10000193-1758067200-1758412799@www.wirfuertoelz.de
SUMMARY:Mit dem "Wirtschaftsforum Oberland" nach Albanien
DESCRIPTION:Delegationsreise „Politik trifft Wirtschaft“ nach Tirana\nJetzt anmelden – vom 17. bis 20. September 2025\nDas Wirtschaftsforum Oberland\, der Landkreis Bad Tölz-Wolfratshausen sowie der Kreisverband des Bayerischen Gemeindetags laden zur 11. Delegationsreise für Wirtschaft und Politik ein – in diesem Jahr geht es in die albanische Hauptstadt Tirana. \n📅 Reisezeitraum: Mittwoch\, 17. bis Samstag\, 20. September 2025📍 Ziel: Tirana\, Albanien🔗 Mit Unterstützung des vbw-Verbindungsbüros in Tirana \nTeilnehmende aus Wirtschaft\, Politik und Verwaltung erwartet ein vielfältiges Programm mit hochkarätigen Gesprächen\, netzwerkstarken Begegnungen und einem abwechslungsreichen Kulturrahmen. Ziel ist es\, den Austausch zwischen Unternehmern\, Bürgermeistern und Kreisräten zu fördern und Einblicke in die wirtschaftlichen und politischen Entwicklungen Albaniens zu erhalten. \n\n🗓️ Programm-Highlights (Auszug)\nMittwoch\, 17. September 2025✈️ Flug München – Tirana🏨 Check-in im Hotel Xheko Imperial🍽️ Willkommensmittagessen & Einführung in Albaniens Wirtschaft🤝 Gespräche mit der GIZ\, KfW & Deutscher Botschaft🎨 Stadtführung & gemeinsames Abendessen mit lokalen Gästen \nDonnerstag\, 18. September 2025🏛️ Besuch der Stadtverwaltung Tirana – Stadtentwicklung & Tourismus💻 Besuch der E-Government-Agentur AKSHI🍴 Netzwerklunch mit Tourismusvertretern🗣️ Gespräch mit einem Mitglied des albanischen Parlaments🎭 Kulturprogramm oder Museumsbesuch (z. B. Bunk’Art 1)🍽️ Gemeinsames Abendessen \nFreitag\, 19. September 2025💡 Besuch eines Innovationszentrums – Startups & KI-Entwicklung🌐 Austausch mit der ICT Association of Albania🌱 Besichtigung eines Solar- oder Wasserkraftwerks🍽️ Gemeinsames Abendessen mit Projektpartnern \nSamstag\, 20. September 2025🏛️ Exkursion nach Durrës – Besichtigung & Tourismusdialog🍽️ Abschlussmittagessen & Networking✈️ Rückflug nach München \n(Änderungen im Programm vorbehalten. Stand: 15.05.2025) \n\n📥 Anmeldung & Kontakt\nBitte senden Sie Ihre verbindliche Anmeldung an:📧 ross@wirtschaftsforum-oberland.de \nBei Fragen zum Reiseprogramm steht Ihnen gerne zur Verfügung:📞 Andreas Roß\, Tel. 08041 / 505-288📱 Mobil: +49 172 86 83 100 \nHinweis:Bitte beachten Sie die separaten Hinweise zur Buchung von Flug und Hotel. Das Anmeldeformular erhalten Sie auf Anfrage oder direkt per E-Mail. \n\n🤝 Wir freuen uns über Ihre Teilnahme – gerne auch gemeinsam mit Ihrer Partnerin / Ihrem Partner.\nNutzen Sie diese besondere Gelegenheit\, um internationale Kontakte zu knüpfen\, neue Perspektiven kennenzulernen und den Austausch zwischen Wirtschaft und Kommunalpolitik aktiv mitzugestalten. \n  \n 
URL:https://www.wirfuertoelz.de/event/mit-dem-wirtschaftsforum-oberland-nach-albanien/
LOCATION:Tirana\, Tirana\, Albania
CATEGORIES:Infoveranstaltung,Meeting,Netzwerk,Tourismus
ATTACH;FMTTYPE=image/jpeg:https://www.wirfuertoelz.de/wp-content/uploads/2025/06/albanien.jpg
ORGANIZER;CN="Wirtschaftsforum Oberand e.V.":MAILTO:andreas.ross@lra-toelz.de
END:VEVENT
BEGIN:VEVENT
DTSTART;TZID=Europe/Berlin:20250922T190000
DTEND;TZID=Europe/Berlin:20250922T220000
DTSTAMP:20260424T132007
CREATED:20250313T021552Z
LAST-MODIFIED:20250313T021552Z
UID:10000167-1758567600-1758578400@www.wirfuertoelz.de
SUMMARY:Online Marketing für Einsteiger
DESCRIPTION:Erkenne und nutze die Möglichkeiten der Social Media Welt\n\n\n\nDieser Einsteigerkurs bietet Ihnen einen umfassenden Überblick über die Grundlagen des Onlinemarketings. Sie lernen die wichtigsten Konzepte und Techniken kennen\, um Ihre ersten Schritte in der digitalen Marketingwelt zu machen. Der Kurs richtet sich an Ehrenamtliche\, die lernen möchten\, wie sie Instagram und Facebook effektiv nutzen können\, um ihre Organisation und deren Aktivitäten zu präsentieren und mit der Community zu interagieren. Der Kurs bietet eine praxisorientierte Einführung in die wichtigsten Funktionen und Strategien dieser Social Media Plattformen. Nach diesem Kurs können Sie problemlos dazu beitragen ihren Verein in der Außenwahrnehmung zu stärken. \nBei Interesse gibt es auch weiterführende Seminare zu diesem Thema:\n29.09 Effektive und einfache Hilfsmittel zur Erstellung von Content\n11.10 Foto- und Videografie mit dem Smartphone / Videobearbeitung und Schnitt\n20.10 Online-Redaktion-Tools für Social Media \n\n\n\n\n\n\n\nKursnummer\n33717\n\n\n\n\nTermine\n\n Mo\, 22.09.2025 19:00-22:00 Uhr \n\n\n\n\n\n Ort \n Online-Angebot \n\n\n\n\nReferent/in\nIsabel Neyses  Weitere Veranstaltungen dieses/r Referenten/in \n\n\n\n\nGebühr\nGebühr 13\,00 EUR\n\n\n\n\n\nAnmeldung\n\n\n\n\n  \n  \n 
URL:https://www.wirfuertoelz.de/event/online-marketing-fuer-einsteiger/
LOCATION:online via zoom
CATEGORIES:coaching,Infoveranstaltung,Meeting,Netzwerk,Seminar
ATTACH;FMTTYPE=image/jpeg:https://www.wirfuertoelz.de/wp-content/uploads/2025/03/ehrenamt.jpg
ORGANIZER;CN="Kreisbildungswerk Bad T%C3%B6lz-Wolfratshausen":MAILTO:info@kbw-toelz-wor
END:VEVENT
BEGIN:VEVENT
DTSTART;TZID=Europe/Berlin:20250924T190000
DTEND;TZID=Europe/Berlin:20250924T210000
DTSTAMP:20260424T132007
CREATED:20250828T130437Z
LAST-MODIFIED:20250828T130437Z
UID:10000205-1758740400-1758747600@www.wirfuertoelz.de
SUMMARY:Unternehmerstammtisch im Jail House
DESCRIPTION:Unternehmerstammtisch im Jail House\n\n\n\n\n\n\n\n\n\n\n\n\nLiebe Unternehmerinnen und Unternehmer\, \n\nwir laden Sie ganz herzlich zum nächsten Unternehmerstammtisch ins JAIL HOUSE Bad Tölz ein\, zu unserem geschätzten Mitglied und Spartensprecher Gastronomie – Peter Frech. \nPeter Frech bekannt als einer der ´Macher´ in Bad Tölz für seinen Tatendrang\, seine Bodenständigkeit und seinen Unternehmergeist. Ob Gastronomie\, Bau oder Sicherheitsfirma – er ist in verschiedensten Branchen aktiv unterwegs.  An diesem Abend nimmt er uns mit auf eine Reise durch seine unternehmerischen Erfolgsg´schichten: Was hat ihn geprägt? Welche Herausforderungen gilt es zu meistern? Welche Visionen hat er für Tölz und darüber hinaus? Freuen Sie sich auf einen spannenden Abend\, Austausch und Netzwerken mit leckeren Drinks & Snacks. \n\nTermin/Zeit:     Mittwoch\, 24. September 2025 von 19 bis 21 Uhr \nStandort:          JAIL-HOUSE GmbH – Moraltpark 3 -83646 Bad Tölz – www.jail-house.de\nwww.sicherheit-consulting.de \nAnmeldung:     Bitte bis 18. September 2025 an Ingrid Dietl info@wirfuertoelz.de \nIhr Nutzen:       Einblicke\, Inspiration und Erfolgsimpulse in Tölzer Unternehmen\nAustausch\, Netzwerk und Kennenlernen \n\nDer Unternehmerstammtisch findet alle zwei Monate für alle Tölzer Unternehmerinnen und Unternehmer statt. Ziel der Veranstaltung ist es\, eine Plattform zum Austausch zu schaffen und dabei die Unternehmen und deren Erfolgsfaktoren kennenzulernen. Wir freuen uns auf Ihre Teilnahme. Gleich anmelden und dabei sein!
URL:https://www.wirfuertoelz.de/event/unternehmerstammtisch-im-jail-house/
LOCATION:Jail House\, Moraltpark 3\, Bad Tölz\, Bayern\, 83646
CATEGORIES:Dikussion,Gastronomie,Infoveranstaltung,Meeting,Netzwerk,Vortrag
ATTACH;FMTTYPE=image/png:https://www.wirfuertoelz.de/wp-content/uploads/2025/08/Jailhouse-Unternehmerstammtisch.png
ORGANIZER;CN="Wir f%C3%BCr T%C3%B6lz":MAILTO:info@wirfuertoelz.de
END:VEVENT
BEGIN:VEVENT
DTSTART;TZID=Europe/Berlin:20250925T191500
DTEND;TZID=Europe/Berlin:20250925T211500
DTSTAMP:20260424T132007
CREATED:20250313T015528Z
LAST-MODIFIED:20250313T015528Z
UID:10000164-1758827700-1758834900@www.wirfuertoelz.de
SUMMARY:Sitzungen lebendig gestalten!
DESCRIPTION:Moderationstraining für Ehrenamtliche\n\n\n\nSie möchten keine monotonen und unproduktive Sitzungen erleben? Gemeinsam tauchen wir in die Welt der Moderation ein und lernen\, wie man eine positive Atmosphäre schafft\, Diskussionen geschickt lenkt und die Ideen aller Teilnehmenden einbindet. Mit praxisnahen Übungen und hilfreichen Tipps wird Moderation zum Werkzeug\, das Spaß macht und gleichzeitig zum Erfolg führt. \nInhalte\n– Rolle der Moderation\n– Methoden zur Aktivierung der Teilnehmenden\n– Effiziente und motivierende Strukturierung von Sitzungen\n– Visualisierungen und Moderationshilfen\n– KI-Tools für die Vorbereitung\, Durchführung und Nachbereitung nutzen\n– Führungsstil und Wertschätzungskultur \n\n\n\n\n\n\n\nKursnummer\n33699\n\n\n\n\nTermine\n\n Do\, 25.09.2025 19:15-21:15 Uhr   Do\, 09.10.2025 19:15-21:15 Uhr \n\n\n\n\n\n Ort \n Online-Angebot \n\n\n\n\nReferent/in\nMichaela Anders  Weitere Veranstaltungen dieses/r Referenten/in \n\n\n\n\nGebühr\nGebühr (zwei Module) 30\,00 EUR \nZur Anmeldung\n\n\n\n\n  \n  \n 
URL:https://www.wirfuertoelz.de/event/sitzungen-lebendig-gestalten/2025-09-25/
LOCATION:online via zoom
CATEGORIES:coaching,Infoveranstaltung,Meeting,Netzwerk,Seminar
ATTACH;FMTTYPE=image/jpeg:https://www.wirfuertoelz.de/wp-content/uploads/2025/03/ehrenamt.jpg
ORGANIZER;CN="Kreisbildungswerk Bad T%C3%B6lz-Wolfratshausen":MAILTO:info@kbw-toelz-wor
END:VEVENT
BEGIN:VEVENT
DTSTART;TZID=Europe/Berlin:20250929T180000
DTEND;TZID=Europe/Berlin:20250929T210000
DTSTAMP:20260424T132007
CREATED:20250313T022301Z
LAST-MODIFIED:20250313T022301Z
UID:10000168-1759168800-1759179600@www.wirfuertoelz.de
SUMMARY:Effektive und einfache Hilfsmittel zur Erstellung von Content
DESCRIPTION:Ihr Werkzeug für ansprechende Social Media Posts\n\n\n\nDieser Kurs richtet sich an alle\, die lernen möchten\, wie sie ansprechenden und professionellen Content mithilfe von Online-Tools erstellen können. Der Kurs bietet eine praxisorientierte Einführung in verschiedene Werkzeuge\, die speziell für die Erstellung von Content-Strategien entwickelt wurde. Sie nutzen die KI mit ChatGPT zur Erstellung von Social Media Beiträgen\, Reels oder Storys. Am Ende des Kurses werden Sie in der Lage sein\, verschiedene Online-Tools effektiv zu nutzen\, um ansprechenden und professionellen Content für Ihre Projekte schnell und ansprechend zu erstellen. \n\n\n\n\n\n\n\n\n\n\nKursnummer\n33718\n\n\n\n\nTermine\n\n Mo\, 29.09.2025 18:00-21:00 Uhr \n\n\n\n\n\nRaum\nKloster Beuerberg Königsdorfer Str. 7 82547 Eurasburg/Beuerberg\n\n\n\n\nReferent/in\nIsabel Neyses  Weitere Veranstaltungen dieses/r Referenten/in \n\n\n\n\nGebühr\n18\,00 EUR\n\n\n\n\n\nAnmeldung\n\n\n\n\n\n\n\n  \n  \n 
URL:https://www.wirfuertoelz.de/event/effektive-und-einfache-hilfsmittel-zur-erstellung-von-content/
LOCATION:Kloster Beuerberg\, Königsdorfer Str. 5\, Beuerberg\, Bayern\, 82547\, Germany
CATEGORIES:coaching,Infoveranstaltung,Meeting,Netzwerk,Seminar
ATTACH;FMTTYPE=image/jpeg:https://www.wirfuertoelz.de/wp-content/uploads/2025/03/ehrenamt.jpg
ORGANIZER;CN="Kreisbildungswerk Bad T%C3%B6lz-Wolfratshausen":MAILTO:info@kbw-toelz-wor
END:VEVENT
END:VCALENDAR